BEGIN:VCALENDAR
VERSION:2.0
PRODID:-//São João de Braga - ECPv6.15.20//NONSGML v1.0//EN
CALSCALE:GREGORIAN
METHOD:PUBLISH
X-ORIGINAL-URL:https://saojoaobraga.pt
X-WR-CALDESC:Eventos para São João de Braga
REFRESH-INTERVAL;VALUE=DURATION:PT1H
X-Robots-Tag:noindex
X-PUBLISHED-TTL:PT1H
BEGIN:VTIMEZONE
TZID:UTC
BEGIN:STANDARD
TZOFFSETFROM:+0000
TZOFFSETTO:+0000
TZNAME:UTC
DTSTART:20240101T000000
END:STANDARD
END:VTIMEZONE
BEGIN:VTIMEZONE
TZID:Europe/Paris
BEGIN:DAYLIGHT
TZOFFSETFROM:+0100
TZOFFSETTO:+0200
TZNAME:CEST
DTSTART:20240331T010000
END:DAYLIGHT
BEGIN:STANDARD
TZOFFSETFROM:+0200
TZOFFSETTO:+0100
TZNAME:CET
DTSTART:20241027T010000
END:STANDARD
BEGIN:DAYLIGHT
TZOFFSETFROM:+0100
TZOFFSETTO:+0200
TZNAME:CEST
DTSTART:20250330T010000
END:DAYLIGHT
BEGIN:STANDARD
TZOFFSETFROM:+0200
TZOFFSETTO:+0100
TZNAME:CET
DTSTART:20251026T010000
END:STANDARD
BEGIN:DAYLIGHT
TZOFFSETFROM:+0100
TZOFFSETTO:+0200
TZNAME:CEST
DTSTART:20260329T010000
END:DAYLIGHT
BEGIN:STANDARD
TZOFFSETFROM:+0200
TZOFFSETTO:+0100
TZNAME:CET
DTSTART:20261025T010000
END:STANDARD
END:VTIMEZONE
BEGIN:VEVENT
DTSTART;TZID=UTC:20250623T220000
DTEND;TZID=UTC:20250623T220000
DTSTAMP:20260419T234345
CREATED:20250529T100027Z
LAST-MODIFIED:20250611T154204Z
UID:10121-1750716000-1750716000@saojoaobraga.pt
SUMMARY:Cortejo das Rusgas
DESCRIPTION:[vc_row][vc_column][vc_column_text] \nO Cortejo das Rusgas é um dos momentos mais emblemáticos da grandiosa noitada de São João em Braga\, no qual se percorre a cidade desde o centro histórico até ao Parque da Ponte. Inspirado nas tradições do passado\, quando os romeiros deixavam promessas junto à capelinha e prendiam pagelas às fitas dos chapéus\, o cortejo mantém viva a essência festiva\, com a presença de várias rusgas\, grupos folclóricos e tocadores de bombos e concertinas de vários pontos do concelho\, aos quais se juntam bandas filarmónicas\, enchendo as ruas de música\, dança e tradição. \nItinerário:\nCampo das Hortas > Arco da Porta Nova > Rua D. Diogo de Sousa > Rua do Souto > Largo Barão de S. Martinho > Rua de S. Marcos > Largo Carlos Amarante > Rua do Raio > Avenida da Liberdade > Largo S. João da Ponte (capela). \nGrupos participantes:\nArcos de Romaria; Cabeçudos e Gigantones do São João de Braga; Amigos da Borga; Zés Pereiras S. Paio Antas; Banda Musical de Vila Verde; Rusga de São Vicente; Grupo Folclórico e Etnográfico de Palmeira; Grupo Folclórico Infantil e Juvenil do Carreiro; Grupo Folclórico da Universidade do Minho; Rancho Folclórico ACR Cabreiros; Associação Cultural e Festiva ‘Os Sinos da Sé’; Grupo de Concertinas de Merelim S. Pedro; Rancho Folclórico S. João Baptista de Nogueira; Rusga de Merelim S. Paio; Grupo Folclórico S. Miguel de Gualtar; Amigos das Concertinas da Loureira; Rancho Folclórico Sta. Maria de Adaúfe; Rancho Folclórico Típico de Sta. Maria de Sequeira; Amigos das Concertinas de Palmeira; Rusga Joaquim Janeiro; Grupo Foclórico Divino Salvador de Tebosa; Grupo Folclórico Danças e Cantares de Sto. Adrião; Grupo Folclórico de Lamaçães; Rusga de Merelim S. Pedro; Amigos das Concertinas de Aveleda; Banda Filarmónica de Cabreiros. \n[/vc_column_text][/vc_column][/vc_row]
URL:https://saojoaobraga.pt/event/cortejo-das-rusgas-2025/
LOCATION:Campo das Hortas
CATEGORIES:Cortejos
ATTACH;FMTTYPE=image/jpeg:https://saojoaobraga.pt/wp-content/uploads/2025/05/cortejo-rusgas-saojoao-braga-1.jpg
END:VEVENT
BEGIN:VEVENT
DTSTART;TZID=Europe/Paris:20250623T233000
DTEND;TZID=Europe/Paris:20250624T060000
DTSTAMP:20260419T234345
CREATED:20250529T100027Z
LAST-MODIFIED:20250611T154033Z
UID:10133-1750721400-1750744800@saojoaobraga.pt
SUMMARY:"São João Pop'ular"
DESCRIPTION:[vc_row][vc_column][vc_column_text]Muita festa e animção no Largo do Pópulo\, das 23h30 até às 6:00 da manhã! \nAfterparty:\nAnimação com DJ’s. \n[/vc_column_text][/vc_column][/vc_row]
URL:https://saojoaobraga.pt/event/sao-joao-popular-23-2025/
LOCATION:Pópulo\, Largo do Pópulo\, Braga\, Braga\, 4700-435\, Portugal
CATEGORIES:Animação,Espetáculos
ATTACH;FMTTYPE=image/jpeg:https://saojoaobraga.pt/wp-content/uploads/2025/05/sao-joao-popular-5.jpg
END:VEVENT
BEGIN:VEVENT
DTSTART;TZID=UTC:20250624T010000
DTEND;TZID=UTC:20250624T010000
DTSTAMP:20260419T234345
CREATED:20250529T100027Z
LAST-MODIFIED:20250612T152618Z
UID:10127-1750726800-1750726800@saojoaobraga.pt
SUMMARY:Fogo da Ponte
DESCRIPTION:[vc_row][vc_column][vc_column_text] \nEspetacular sessão de pirotecnia lançada do alto do monte Picoto sobre o terreiro de São João da Ponte. \n[/vc_column_text][/vc_column][/vc_row]
URL:https://saojoaobraga.pt/event/fogo-da-ponte-2025/
LOCATION:Monte Picoto\, Monte do Picoto\, Braga\, Braga\, 4715-213\, Portugal
CATEGORIES:Espetáculos
ATTACH;FMTTYPE=image/jpeg:https://saojoaobraga.pt/wp-content/uploads/2025/05/fogo-de-artificio-4.jpg
END:VEVENT
BEGIN:VEVENT
DTSTART;TZID=UTC:20250624T013000
DTEND;TZID=UTC:20250624T013000
DTSTAMP:20260419T234345
CREATED:20250529T100027Z
LAST-MODIFIED:20250611T154014Z
UID:10129-1750728600-1750728600@saojoaobraga.pt
SUMMARY:Concerto Diogo Piçarra
DESCRIPTION:[vc_row][vc_column][vc_column_text] \nGrande concerto com Diogo Piçarra. \nNão perca![/vc_column_text][/vc_column][/vc_row]
URL:https://saojoaobraga.pt/event/concerto-diogo-picarra-2025/
LOCATION:Avenida Central\, Avenida Central\, 10\, Braga\, Braga\, 4710-401\, Portugal
CATEGORIES:Concertos,Espetáculos
ATTACH;FMTTYPE=image/jpeg:https://saojoaobraga.pt/wp-content/uploads/2025/05/diogo-picarra-2.jpg
END:VEVENT
BEGIN:VEVENT
DTSTART;TZID=UTC:20250624T220000
DTEND;TZID=UTC:20250624T220000
DTSTAMP:20260419T234345
CREATED:20250529T100026Z
LAST-MODIFIED:20250611T154000Z
UID:10163-1750802400-1750802400@saojoaobraga.pt
SUMMARY:Concerto Tony Carrera
DESCRIPTION:[vc_row][vc_column][vc_column_text]Grandioso espetáculo com Tony Carreira. \nNão perca![/vc_column_text][/vc_column][/vc_row]
URL:https://saojoaobraga.pt/event/concerto-tony-carrera-2025/
LOCATION:Avenida Central\, Avenida Central\, 10\, Braga\, Braga\, 4710-401\, Portugal
CATEGORIES:Concertos,Espetáculos
ATTACH;FMTTYPE=image/jpeg:https://saojoaobraga.pt/wp-content/uploads/2025/05/tony-carreira-1.jpg
END:VEVENT
BEGIN:VEVENT
DTSTART;TZID=UTC:20250624T233000
DTEND;TZID=UTC:20250624T233000
DTSTAMP:20260419T234345
CREATED:20250529T100026Z
LAST-MODIFIED:20250611T153855Z
UID:10173-1750807800-1750807800@saojoaobraga.pt
SUMMARY:Fogo de Encerramento
DESCRIPTION:[vc_row][vc_column][vc_column_text] \nGrandiosa e espetacular sessão de fogo de artifício\, que marca o encerramento das Festas de São João de Braga num espetáculo piromusical\, marcando o “Até para o ano” das sanjoaninas bracarenses. \n[/vc_column_text][/vc_column][/vc_row]
URL:https://saojoaobraga.pt/event/fogo-de-encerramento-2025/
LOCATION:Avenida Central\, Avenida Central\, 10\, Braga\, Braga\, 4710-401\, Portugal
CATEGORIES:Espetáculos
ATTACH;FMTTYPE=image/jpeg:https://saojoaobraga.pt/wp-content/uploads/2025/05/fogo-de-artificio-5.jpg
END:VEVENT
END:VCALENDAR