BEGIN:VCALENDAR
VERSION:2.0
PRODID:-//São João de Braga - ECPv6.15.20//NONSGML v1.0//EN
CALSCALE:GREGORIAN
METHOD:PUBLISH
X-WR-CALNAME:São João de Braga
X-ORIGINAL-URL:https://saojoaobraga.pt
X-WR-CALDESC:Eventos para São João de Braga
REFRESH-INTERVAL;VALUE=DURATION:PT1H
X-Robots-Tag:noindex
X-PUBLISHED-TTL:PT1H
BEGIN:VTIMEZONE
TZID:Europe/Paris
BEGIN:DAYLIGHT
TZOFFSETFROM:+0100
TZOFFSETTO:+0200
TZNAME:CEST
DTSTART:20240331T010000
END:DAYLIGHT
BEGIN:STANDARD
TZOFFSETFROM:+0200
TZOFFSETTO:+0100
TZNAME:CET
DTSTART:20241027T010000
END:STANDARD
BEGIN:DAYLIGHT
TZOFFSETFROM:+0100
TZOFFSETTO:+0200
TZNAME:CEST
DTSTART:20250330T010000
END:DAYLIGHT
BEGIN:STANDARD
TZOFFSETFROM:+0200
TZOFFSETTO:+0100
TZNAME:CET
DTSTART:20251026T010000
END:STANDARD
BEGIN:DAYLIGHT
TZOFFSETFROM:+0100
TZOFFSETTO:+0200
TZNAME:CEST
DTSTART:20260329T010000
END:DAYLIGHT
BEGIN:STANDARD
TZOFFSETFROM:+0200
TZOFFSETTO:+0100
TZNAME:CET
DTSTART:20261025T010000
END:STANDARD
END:VTIMEZONE
BEGIN:VTIMEZONE
TZID:UTC
BEGIN:STANDARD
TZOFFSETFROM:+0000
TZOFFSETTO:+0000
TZNAME:UTC
DTSTART:20240101T000000
END:STANDARD
END:VTIMEZONE
BEGIN:VEVENT
DTSTART;TZID=Europe/Paris:20250621T100000
DTEND;TZID=Europe/Paris:20250621T100000
DTSTAMP:20260422T104853
CREATED:20250529T100031Z
LAST-MODIFIED:20250529T135511Z
UID:9996-1750500000-1750500000@saojoaobraga.pt
SUMMARY:Itinerarium “São João popular\, gentes e as suas tradições”
DESCRIPTION:[vc_row][vc_column][vc_column_text] \nVisita guiada pelo antropólogo e investigador Luís Cunha (CRIA-Uminho) no âmbito do programa ITINERARIUM – Conhecer Braga pelo Património. \nOrganização: Divisão de Cultura – Município de Braga \n[/vc_column_text][/vc_column][/vc_row]
URL:https://saojoaobraga.pt/event/itinerarium-sao-joao-popular-2025/
LOCATION:Igreja de São João do Souto\, Lgo de Santa Cruz\, 23\, Braga\, Braga\, 4700-305\, Portugal
CATEGORIES:Cultura,Vários
ATTACH;FMTTYPE=image/jpeg:https://saojoaobraga.pt/wp-content/uploads/2025/05/itinerarium-visitas-guiadas-1.jpg
END:VEVENT
BEGIN:VEVENT
DTSTART;TZID=UTC:20250621T213000
DTEND;TZID=UTC:20250621T213000
DTSTAMP:20260422T104853
CREATED:20250529T100031Z
LAST-MODIFIED:20250529T141950Z
UID:10026-1750541400-1750541400@saojoaobraga.pt
SUMMARY:XXXIV Cortejo Internacional de Gigantones e Cabeçudos
DESCRIPTION:[vc_row][vc_column][vc_column_text] \nEste desfile traz a Braga a alegria contagiante destas figuras tradicionais\, reunindo grupos de várias regiões do país e do estrangeiro. Num cortejo único e cheio de cor\, as ruas da cidade enchem-se de ritmos e expressões populares\, neste que é um dos momentos mais aguardados da programação do São João de Braga. \nItinerário:\nPraça Municipal > Rua Frei Caetano Brandão > Rua D. Diogo de Sousa > Largo do Paço > Rua Justino Cruz > Rua dos Capelistas > Rua do Castelo > Largo Barão de S. Martinho > Praça da República. \nOrganização: Ida e Volta – Associação Cultural e Artística \n[/vc_column_text][/vc_column][/vc_row]
URL:https://saojoaobraga.pt/event/xxxiv-cortejo-internacional-de-gigantones-e-cabecudos/
LOCATION:Praça do Município\, Praça do Município\, Braga\, Braga\, 4700-435\, Portugal
CATEGORIES:Animação,Cortejos,Vários
ATTACH;FMTTYPE=image/jpeg:https://saojoaobraga.pt/wp-content/uploads/2025/05/cortejo-gigantones-1.jpg
END:VEVENT
BEGIN:VEVENT
DTSTART;TZID=UTC:20250622T093000
DTEND;TZID=UTC:20250622T093000
DTSTAMP:20260422T104853
CREATED:20250529T100029Z
LAST-MODIFIED:20250529T144224Z
UID:10059-1750584600-1750584600@saojoaobraga.pt
SUMMARY:Corrida de São João 2025
DESCRIPTION:[vc_row][vc_column][vc_column_text] \nA Corrida de São João de Braga está de volta com 12 km de pura energia e uma caminhada de 5 km para quem prefere aproveitar o percurso sem pressas. A partida e a chegada acontecem na Avenida João Paulo II — e o espírito de São João acompanha cada passo. \nInscrições em:\nrunporto.com \n[/vc_column_text][/vc_column][/vc_row]
URL:https://saojoaobraga.pt/event/corrida-de-sao-joao-2025/
LOCATION:Avenida João Paulo II
CATEGORIES:Desporto,Vários
ATTACH;FMTTYPE=image/jpeg:https://saojoaobraga.pt/wp-content/uploads/2025/05/corrida-saojoao-2.jpg
END:VEVENT
END:VCALENDAR