BEGIN:VCALENDAR
VERSION:2.0
PRODID:-//São João de Braga - ECPv6.15.20//NONSGML v1.0//EN
CALSCALE:GREGORIAN
METHOD:PUBLISH
X-ORIGINAL-URL:https://saojoaobraga.pt
X-WR-CALDESC:Eventos para São João de Braga
REFRESH-INTERVAL;VALUE=DURATION:PT1H
X-Robots-Tag:noindex
X-PUBLISHED-TTL:PT1H
BEGIN:VTIMEZONE
TZID:Europe/Paris
BEGIN:DAYLIGHT
TZOFFSETFROM:+0100
TZOFFSETTO:+0200
TZNAME:CEST
DTSTART:20240331T010000
END:DAYLIGHT
BEGIN:STANDARD
TZOFFSETFROM:+0200
TZOFFSETTO:+0100
TZNAME:CET
DTSTART:20241027T010000
END:STANDARD
BEGIN:DAYLIGHT
TZOFFSETFROM:+0100
TZOFFSETTO:+0200
TZNAME:CEST
DTSTART:20250330T010000
END:DAYLIGHT
BEGIN:STANDARD
TZOFFSETFROM:+0200
TZOFFSETTO:+0100
TZNAME:CET
DTSTART:20251026T010000
END:STANDARD
BEGIN:DAYLIGHT
TZOFFSETFROM:+0100
TZOFFSETTO:+0200
TZNAME:CEST
DTSTART:20260329T010000
END:DAYLIGHT
BEGIN:STANDARD
TZOFFSETFROM:+0200
TZOFFSETTO:+0100
TZNAME:CET
DTSTART:20261025T010000
END:STANDARD
END:VTIMEZONE
BEGIN:VEVENT
DTSTART;TZID=Europe/Paris:20250623T123000
DTEND;TZID=Europe/Paris:20250623T123000
DTSTAMP:20260422T105357
CREATED:20250529T100028Z
LAST-MODIFIED:20250528T135723Z
UID:10104-1750681800-1750681800@saojoaobraga.pt
SUMMARY:Homenagem ao Mestre Veiga
DESCRIPTION:[vc_row][vc_column][vc_column_text] \nColocação de Coroa de Flores no Busto com atuação da Banda de Cabreiros. \n[/vc_column_text][/vc_column][/vc_row]
URL:https://saojoaobraga.pt/event/homenagem-ao-mestre-veiga-2025/
LOCATION:Praça da República\, Praça da República\, Braga\, Braga\, 4700-307\, Portugal
CATEGORIES:Homenagem
ATTACH;FMTTYPE=image/jpeg:https://saojoaobraga.pt/wp-content/uploads/2025/05/homenagem-mestre-veiga-1.jpg
END:VEVENT
END:VCALENDAR