BEGIN:VCALENDAR
VERSION:2.0
PRODID:-//São João de Braga - ECPv6.15.20//NONSGML v1.0//EN
CALSCALE:GREGORIAN
METHOD:PUBLISH
X-ORIGINAL-URL:https://saojoaobraga.pt
X-WR-CALDESC:Eventos para São João de Braga
REFRESH-INTERVAL;VALUE=DURATION:PT1H
X-Robots-Tag:noindex
X-PUBLISHED-TTL:PT1H
BEGIN:VTIMEZONE
TZID:Europe/Paris
BEGIN:DAYLIGHT
TZOFFSETFROM:+0100
TZOFFSETTO:+0200
TZNAME:CEST
DTSTART:20240331T010000
END:DAYLIGHT
BEGIN:STANDARD
TZOFFSETFROM:+0200
TZOFFSETTO:+0100
TZNAME:CET
DTSTART:20241027T010000
END:STANDARD
BEGIN:DAYLIGHT
TZOFFSETFROM:+0100
TZOFFSETTO:+0200
TZNAME:CEST
DTSTART:20250330T010000
END:DAYLIGHT
BEGIN:STANDARD
TZOFFSETFROM:+0200
TZOFFSETTO:+0100
TZNAME:CET
DTSTART:20251026T010000
END:STANDARD
BEGIN:DAYLIGHT
TZOFFSETFROM:+0100
TZOFFSETTO:+0200
TZNAME:CEST
DTSTART:20260329T010000
END:DAYLIGHT
BEGIN:STANDARD
TZOFFSETFROM:+0200
TZOFFSETTO:+0100
TZNAME:CET
DTSTART:20261025T010000
END:STANDARD
END:VTIMEZONE
BEGIN:VTIMEZONE
TZID:UTC
BEGIN:STANDARD
TZOFFSETFROM:+0000
TZOFFSETTO:+0000
TZNAME:UTC
DTSTART:20240101T000000
END:STANDARD
END:VTIMEZONE
BEGIN:VEVENT
DTSTART;TZID=Europe/Paris:20250617T100000
DTEND;TZID=Europe/Paris:20250617T100000
DTSTAMP:20260419T150257
CREATED:20250529T102133Z
LAST-MODIFIED:20250527T153825Z
UID:9892-1750154400-1750154400@saojoaobraga.pt
SUMMARY:Novena a São João Baptista
DESCRIPTION:[vc_row][vc_column][vc_column_text] \nNo decurso da eucaristia. \n[/vc_column_text][/vc_column][/vc_row]
URL:https://saojoaobraga.pt/event/novena-a-sao-joao-baptista-17-2025/
LOCATION:Igreja de São João do Souto\, Lgo de Santa Cruz\, 23\, Braga\, Braga\, 4700-305\, Portugal
CATEGORIES:Devoção
ATTACH;FMTTYPE=image/jpeg:https://saojoaobraga.pt/wp-content/uploads/2025/05/novena-saojoao-batista-4.jpg
END:VEVENT
BEGIN:VEVENT
DTSTART;TZID=Europe/Paris:20250618T100000
DTEND;TZID=Europe/Paris:20250618T100000
DTSTAMP:20260419T150257
CREATED:20250529T100033Z
LAST-MODIFIED:20250527T163804Z
UID:9916-1750240800-1750240800@saojoaobraga.pt
SUMMARY:Novena a São João Baptista
DESCRIPTION:[vc_row][vc_column][vc_column_text] \nNo decurso da eucaristia\, homenagem aos membros falecidos das comissões e Associação de Festas de São João. \n[/vc_column_text][/vc_column][/vc_row]
URL:https://saojoaobraga.pt/event/novena-a-sao-joao-baptista-18-2025/
LOCATION:Igreja de São João do Souto\, Lgo de Santa Cruz\, 23\, Braga\, Braga\, 4700-305\, Portugal
CATEGORIES:Devoção
ATTACH;FMTTYPE=image/jpeg:https://saojoaobraga.pt/wp-content/uploads/2025/05/igreja-saojoao-souto-braga-2.jpg
END:VEVENT
BEGIN:VEVENT
DTSTART;TZID=Europe/Paris:20250619T100000
DTEND;TZID=Europe/Paris:20250619T100000
DTSTAMP:20260419T150257
CREATED:20250529T100032Z
LAST-MODIFIED:20250528T091359Z
UID:9939-1750327200-1750327200@saojoaobraga.pt
SUMMARY:Novena a São João Baptista
DESCRIPTION:[vc_row][vc_column][vc_column_text] \nNo decurso da eucaristia. \n[/vc_column_text][/vc_column][/vc_row]
URL:https://saojoaobraga.pt/event/novena-a-sao-joao-baptista-19-2025/
LOCATION:Igreja S. Paulo\, Largo de São Paulo\, Braga\, Braga\, 4700-039\, Portugal
CATEGORIES:Devoção
ATTACH;FMTTYPE=image/jpeg:https://saojoaobraga.pt/wp-content/uploads/2025/05/igreja-de-saopaulo-1.jpg
END:VEVENT
BEGIN:VEVENT
DTSTART;TZID=UTC:20250619T180000
DTEND;TZID=UTC:20250619T180000
DTSTAMP:20260419T150257
CREATED:20250529T100032Z
LAST-MODIFIED:20250528T091729Z
UID:9948-1750356000-1750356000@saojoaobraga.pt
SUMMARY:Procissão de Corpo de Deus
DESCRIPTION:[vc_row][vc_column][vc_column_text] \nA Solenidade do Corpo de Deus exprime-se publicamente na procissão\, de longa tradição histórica\, que reclama a presença participativa da comunidade bracarense. \n[/vc_column_text][/vc_column][/vc_row]
URL:https://saojoaobraga.pt/event/procissao-corpo-de-deus-2025/
LOCATION:Sé Primaz\, Sé Catedral de Braga\, Braga\, Braga\, 470-424\, Portugal
CATEGORIES:Cortejos,Devoção
ATTACH;FMTTYPE=image/jpeg:https://saojoaobraga.pt/wp-content/uploads/2025/05/procissao-corpo-deus-1.jpg
END:VEVENT
BEGIN:VEVENT
DTSTART;TZID=Europe/Paris:20250620T100000
DTEND;TZID=Europe/Paris:20250620T100000
DTSTAMP:20260419T150257
CREATED:20250529T100032Z
LAST-MODIFIED:20250528T094104Z
UID:9958-1750413600-1750413600@saojoaobraga.pt
SUMMARY:Novena a São João Baptista
DESCRIPTION:[vc_row][vc_column][vc_column_text] \nNo decurso da eucaristia. \n[/vc_column_text][/vc_column][/vc_row]
URL:https://saojoaobraga.pt/event/novena-a-sao-joao-baptista-20-2025/
LOCATION:Igreja de São João do Souto\, Lgo de Santa Cruz\, 23\, Braga\, Braga\, 4700-305\, Portugal
CATEGORIES:Devoção
ATTACH;FMTTYPE=image/jpeg:https://saojoaobraga.pt/wp-content/uploads/2025/05/igreja-saojoao-souto-braga-2.jpg
END:VEVENT
BEGIN:VEVENT
DTSTART;TZID=Europe/Paris:20250621T100000
DTEND;TZID=Europe/Paris:20250621T100000
DTSTAMP:20260419T150257
CREATED:20250529T100031Z
LAST-MODIFIED:20250528T103701Z
UID:9994-1750500000-1750500000@saojoaobraga.pt
SUMMARY:Novena a São João Baptista
DESCRIPTION:[vc_row][vc_column][vc_column_text] \nNo decurso da eucaristia. \n[/vc_column_text][/vc_column][/vc_row]
URL:https://saojoaobraga.pt/event/novena-a-sao-joao-baptista-21-2025/
LOCATION:Igreja de São João do Souto\, Lgo de Santa Cruz\, 23\, Braga\, Braga\, 4700-305\, Portugal
CATEGORIES:Devoção
ATTACH;FMTTYPE=image/jpeg:https://saojoaobraga.pt/wp-content/uploads/2025/05/novena-saojoao-batista-4.jpg
END:VEVENT
BEGIN:VEVENT
DTSTART;TZID=Europe/Paris:20250622T100000
DTEND;TZID=Europe/Paris:20250622T100000
DTSTAMP:20260419T150257
CREATED:20250529T100029Z
LAST-MODIFIED:20250528T120810Z
UID:10056-1750586400-1750586400@saojoaobraga.pt
SUMMARY:Novena a São João Baptista
DESCRIPTION:[vc_row][vc_column][vc_column_text] \nNo decurso da eucaristia. \n[/vc_column_text][/vc_column][/vc_row]
URL:https://saojoaobraga.pt/event/novena-a-sao-joao-baptista-22-2025/
LOCATION:Igreja S. Paulo\, Largo de São Paulo\, Braga\, Braga\, 4700-039\, Portugal
CATEGORIES:Devoção
ATTACH;FMTTYPE=image/jpeg:https://saojoaobraga.pt/wp-content/uploads/2025/05/igreja-de-saopaulo-1.jpg
END:VEVENT
BEGIN:VEVENT
DTSTART;TZID=Europe/Paris:20250623T100000
DTEND;TZID=Europe/Paris:20250623T100000
DTSTAMP:20260419T150257
CREATED:20250529T100028Z
LAST-MODIFIED:20250528T134651Z
UID:10092-1750672800-1750672800@saojoaobraga.pt
SUMMARY:Novena a São João Baptista
DESCRIPTION:[vc_row][vc_column][vc_column_text] \nNo decurso da eucaristia. \n[/vc_column_text][/vc_column][/vc_row]
URL:https://saojoaobraga.pt/event/novena-a-sao-joao-baptista-23-2025/
LOCATION:Igreja de São João do Souto\, Lgo de Santa Cruz\, 23\, Braga\, Braga\, 4700-305\, Portugal
CATEGORIES:Devoção
ATTACH;FMTTYPE=image/jpeg:https://saojoaobraga.pt/wp-content/uploads/2025/05/novena-saojoao-batista-4.jpg
END:VEVENT
BEGIN:VEVENT
DTSTART;TZID=Europe/Paris:20250624T100000
DTEND;TZID=Europe/Paris:20250624T100000
DTSTAMP:20260419T150257
CREATED:20250529T100027Z
LAST-MODIFIED:20250528T144403Z
UID:10142-1750759200-1750759200@saojoaobraga.pt
SUMMARY:Eucaristia solene do Nascimento de São João Baptista
DESCRIPTION:[vc_row][vc_column][vc_column_text] \nEucaristia solene do Nascimento de S. João Baptista\, animada pelo Orfeão de Braga. \n[/vc_column_text][/vc_column][/vc_row]
URL:https://saojoaobraga.pt/event/eucaristia-solene-do-nascimento-de-sao-joao-baptista-24a-2025/
LOCATION:Largo São João do Souto\, Largo de São João do Souto\, Braga\, Braga\, 4700-326\, Portugal
CATEGORIES:Devoção
ATTACH;FMTTYPE=image/jpeg:https://saojoaobraga.pt/wp-content/uploads/2025/05/eucaristia-saojoao-3.jpg
END:VEVENT
BEGIN:VEVENT
DTSTART;TZID=Europe/Paris:20250624T110000
DTEND;TZID=Europe/Paris:20250624T110000
DTSTAMP:20260419T150257
CREATED:20250529T100027Z
LAST-MODIFIED:20250528T150217Z
UID:10144-1750762800-1750762800@saojoaobraga.pt
SUMMARY:Eucaristia solene do Nascimento de São João Baptista
DESCRIPTION:[vc_row][vc_column][vc_column_text] \nEucaristia solene do Nascimento de S. João Baptista\, presidida pelo Arcebispo Primaz\, D. José Cordeiro\, animada pelo Grupo Coral de Santo Adrião. \n[/vc_column_text][/vc_column][/vc_row]
URL:https://saojoaobraga.pt/event/eucaristia-solene-do-nascimento-de-sao-joao-baptista-24b-2025/
LOCATION:Capela São João da Ponte
CATEGORIES:Devoção
ATTACH;FMTTYPE=image/jpeg:https://saojoaobraga.pt/wp-content/uploads/2025/05/eucaristia-saojoao-4.jpg
END:VEVENT
BEGIN:VEVENT
DTSTART;TZID=Europe/Paris:20250624T163000
DTEND;TZID=Europe/Paris:20250624T163000
DTSTAMP:20260419T150257
CREATED:20250529T100026Z
LAST-MODIFIED:20250528T145206Z
UID:10117-1750782600-1750782600@saojoaobraga.pt
SUMMARY:Eucaristia solene em honra de São João Baptista
DESCRIPTION:[vc_row][vc_column][vc_column_text][/vc_column_text][/vc_column][/vc_row]
URL:https://saojoaobraga.pt/event/eucaristia-solene-em-honra-de-sao-joao-baptista-2025/
LOCATION:Sé Primaz\, Sé Catedral de Braga\, Braga\, Braga\, 470-424\, Portugal
CATEGORIES:Devoção
ATTACH;FMTTYPE=image/jpeg:https://saojoaobraga.pt/wp-content/uploads/2025/05/eucaristia-solene-1.jpg
END:VEVENT
BEGIN:VEVENT
DTSTART;TZID=UTC:20250624T170000
DTEND;TZID=UTC:20250624T170000
DTSTAMP:20260419T150257
CREATED:20250529T100026Z
LAST-MODIFIED:20250528T145355Z
UID:10150-1750784400-1750784400@saojoaobraga.pt
SUMMARY:Transladação do Andor de São João em direção à Sé
DESCRIPTION:[vc_row][vc_column][vc_column_text] \nCaminhando para o encerramento das Festas de São João de 2024\, teremos a transladação do andor de São João em direção à Sé. \n[/vc_column_text][/vc_column][/vc_row]
URL:https://saojoaobraga.pt/event/transladacao-do-andor-de-sao-joao-em-direcao-a-se-2025/
LOCATION:Largo São João do Souto\, Largo de São João do Souto\, Braga\, Braga\, 4700-326\, Portugal
CATEGORIES:Cortejos,Devoção
ATTACH;FMTTYPE=image/jpeg:https://saojoaobraga.pt/wp-content/uploads/2025/05/transladacao-andor-saojoao-4.jpg
END:VEVENT
BEGIN:VEVENT
DTSTART;TZID=UTC:20250624T171500
DTEND;TZID=UTC:20250624T171500
DTSTAMP:20260419T150257
CREATED:20250529T100051Z
LAST-MODIFIED:20250529T152555Z
UID:10446-1750785300-1750785300@saojoaobraga.pt
SUMMARY:Aclamação das Flores
DESCRIPTION:[vc_row][vc_column][vc_column_text] \nÀ passagem do andor de São João Baptista\, o Orfeão de Braga entoará o Hino do São João de Braga e dar-se-á a Aclamação das Flores. \n[/vc_column_text][/vc_column][/vc_row]
URL:https://saojoaobraga.pt/event/aclamacao-das-flores-2025-3/
LOCATION:Largo do Paço\, Largo do Paço\, Braga\, Braga\, 4700-314\, Portugal
CATEGORIES:Devoção
ATTACH;FMTTYPE=image/jpeg:https://saojoaobraga.pt/wp-content/uploads/2025/05/aclamacao-flores-2-1.jpg
END:VEVENT
BEGIN:VEVENT
DTSTART;TZID=UTC:20250624T180000
DTEND;TZID=UTC:20250624T180000
DTSTAMP:20260419T150257
CREATED:20250529T100026Z
LAST-MODIFIED:20250529T152708Z
UID:10154-1750788000-1750788000@saojoaobraga.pt
SUMMARY:Soleníssima Procissão de São João Baptista
DESCRIPTION:[vc_row][vc_column][vc_column_text] \nDez andores e centenas de figurantes\, com destaque para os Santos do mês de junho (Santo António\, São Luís Gonzaga\, São Pedro\, Sagrado Coração de Jesus\, São Paulo e São Paio) e dos Padroeiros da cidade de Braga: São Geraldo\, Nossa Senhora da Torre\, Nossa Senhora do Sameiro e São João. \nItinerário:\nSé Primaz > Rua D. Paio Mendes > Rua S. Miguel-o-Anjo > Rua D. Diogo de Sousa > Largo do Paço > Rua do Souto > Largo do Barão de S. Martinho > Rua de S. Marcos > Rua D. Afonso Henriques > Rua D. Frei Caetano Brandão > Rua D. Paio Mendes > Sé Primaz \n[/vc_column_text][/vc_column][/vc_row]
URL:https://saojoaobraga.pt/event/solenissima-procissao-de-sao-joao-baptista-2025/
LOCATION:Sé Primaz\, Sé Catedral de Braga\, Braga\, Braga\, 470-424\, Portugal
CATEGORIES:Cortejos,Devoção
ATTACH;FMTTYPE=image/jpeg:https://saojoaobraga.pt/wp-content/uploads/2025/05/procissao-saojoao-1.jpg
END:VEVENT
BEGIN:VEVENT
DTSTART;TZID=UTC:20250624T193000
DTEND;TZID=UTC:20250624T193000
DTSTAMP:20260419T150257
CREATED:20250529T100026Z
LAST-MODIFIED:20250528T150050Z
UID:10159-1750793400-1750793400@saojoaobraga.pt
SUMMARY:Despedida a São João
DESCRIPTION:[vc_row][vc_column][vc_column_text] \nPela Rusga de S. Vicente e Banda Musical de Cabreiros. \n[/vc_column_text][/vc_column][/vc_row]
URL:https://saojoaobraga.pt/event/despedida-a-sao-joao-24b-2025/
LOCATION:Igreja de São João do Souto\, Lgo de Santa Cruz\, 23\, Braga\, Braga\, 4700-305\, Portugal
CATEGORIES:Devoção
ATTACH;FMTTYPE=image/jpeg:https://saojoaobraga.pt/wp-content/uploads/2025/05/despedida-sao-joao-3.jpg
END:VEVENT
BEGIN:VEVENT
DTSTART;TZID=UTC:20250624T193000
DTEND;TZID=UTC:20250624T193000
DTSTAMP:20260419T150257
CREATED:20250529T100026Z
LAST-MODIFIED:20250528T150003Z
UID:10161-1750793400-1750793400@saojoaobraga.pt
SUMMARY:Despedida a São João
DESCRIPTION:[vc_row][vc_column][vc_column_text] \nPela Associação Cultural e Festiva Os Sinos da Sé. \n[/vc_column_text][/vc_column][/vc_row]
URL:https://saojoaobraga.pt/event/despedida-a-sao-joao-24a-2025/
LOCATION:Sé Primaz\, Sé Catedral de Braga\, Braga\, Braga\, 470-424\, Portugal
CATEGORIES:Devoção
ATTACH;FMTTYPE=image/jpeg:https://saojoaobraga.pt/wp-content/uploads/2025/05/despedida-sao-joao-2.jpg
END:VEVENT
END:VCALENDAR