BEGIN:VCALENDAR
VERSION:2.0
PRODID:-//São João de Braga - ECPv6.15.20//NONSGML v1.0//EN
CALSCALE:GREGORIAN
METHOD:PUBLISH
X-ORIGINAL-URL:https://saojoaobraga.pt
X-WR-CALDESC:Eventos para São João de Braga
REFRESH-INTERVAL;VALUE=DURATION:PT1H
X-Robots-Tag:noindex
X-PUBLISHED-TTL:PT1H
BEGIN:VTIMEZONE
TZID:UTC
BEGIN:STANDARD
TZOFFSETFROM:+0000
TZOFFSETTO:+0000
TZNAME:UTC
DTSTART:20240101T000000
END:STANDARD
END:VTIMEZONE
BEGIN:VEVENT
DTSTART;TZID=UTC:20250617T103000
DTEND;TZID=UTC:20250617T120000
DTSTAMP:20260419T175352
CREATED:20250529T102133Z
LAST-MODIFIED:20250529T095428Z
UID:9896-1750156200-1750161600@saojoaobraga.pt
SUMMARY:Cortejo Infantil “São João da Pequenada”
DESCRIPTION:[vc_row][vc_column][vc_column_text] \nEste desfile\, alegre e cheio de cor reúne centenas de crianças de várias escolas do concelho\, num animado momento do programa onde não faltam sorrisos\, criatividade e o espírito sanjoanino. \nItinerário:\nPraça da República > Praça Mestre Veiga > Largo Barão de São Martinho > Rua do Souto > Largo do Paço > Rua da Misericórdia > Praça Municipal \n[/vc_column_text][/vc_column][/vc_row]
URL:https://saojoaobraga.pt/event/cortejo-infantil-sao-joao-da-pequenada-2025/
LOCATION:Praça da República\, Praça da República\, Braga\, Braga\, 4700-307\, Portugal
CATEGORIES:Cortejos
ATTACH;FMTTYPE=image/jpeg:https://saojoaobraga.pt/wp-content/uploads/2025/05/cortejo-saojoao-da-pequenada-3.jpg
END:VEVENT
BEGIN:VEVENT
DTSTART;TZID=UTC:20250619T180000
DTEND;TZID=UTC:20250619T180000
DTSTAMP:20260419T175352
CREATED:20250529T100032Z
LAST-MODIFIED:20250528T091729Z
UID:9948-1750356000-1750356000@saojoaobraga.pt
SUMMARY:Procissão de Corpo de Deus
DESCRIPTION:[vc_row][vc_column][vc_column_text] \nA Solenidade do Corpo de Deus exprime-se publicamente na procissão\, de longa tradição histórica\, que reclama a presença participativa da comunidade bracarense. \n[/vc_column_text][/vc_column][/vc_row]
URL:https://saojoaobraga.pt/event/procissao-corpo-de-deus-2025/
LOCATION:Sé Primaz\, Sé Catedral de Braga\, Braga\, Braga\, 470-424\, Portugal
CATEGORIES:Cortejos,Devoção
ATTACH;FMTTYPE=image/jpeg:https://saojoaobraga.pt/wp-content/uploads/2025/05/procissao-corpo-deus-1.jpg
END:VEVENT
BEGIN:VEVENT
DTSTART;TZID=UTC:20250620T220000
DTEND;TZID=UTC:20250620T220000
DTSTAMP:20260419T175352
CREATED:20250529T100032Z
LAST-MODIFIED:20250529T114405Z
UID:9978-1750456800-1750456800@saojoaobraga.pt
SUMMARY:Cortejo Histórico
DESCRIPTION:[vc_row][vc_column][vc_column_text] \nMomento evocativo das raízes e das tradições seculares do São João de Braga\, destacando vários quadros alusivos à sua história e memória. \nItinerário:\nArco da Porta Nova > Rua D. Diogo de Sousa > Largo do Paço > Rua do Souto > Largo Barão de S. Martinho > Praça Mestre Veiga > Praça da República. \n[/vc_column_text][/vc_column][/vc_row]
URL:https://saojoaobraga.pt/event/cortejo-historico-2025/
LOCATION:Arco da Porta Nova\, Rua D. Diogo de Sousa\, 5\, Braga\, Braga\, 4700-424\, Portugal
CATEGORIES:Cortejos
ATTACH;FMTTYPE=image/jpeg:https://saojoaobraga.pt/wp-content/uploads/2025/05/cortejo-historico-2.jpg
END:VEVENT
BEGIN:VEVENT
DTSTART;TZID=UTC:20250621T213000
DTEND;TZID=UTC:20250621T213000
DTSTAMP:20260419T175352
CREATED:20250529T100031Z
LAST-MODIFIED:20250529T141950Z
UID:10026-1750541400-1750541400@saojoaobraga.pt
SUMMARY:XXXIV Cortejo Internacional de Gigantones e Cabeçudos
DESCRIPTION:[vc_row][vc_column][vc_column_text] \nEste desfile traz a Braga a alegria contagiante destas figuras tradicionais\, reunindo grupos de várias regiões do país e do estrangeiro. Num cortejo único e cheio de cor\, as ruas da cidade enchem-se de ritmos e expressões populares\, neste que é um dos momentos mais aguardados da programação do São João de Braga. \nItinerário:\nPraça Municipal > Rua Frei Caetano Brandão > Rua D. Diogo de Sousa > Largo do Paço > Rua Justino Cruz > Rua dos Capelistas > Rua do Castelo > Largo Barão de S. Martinho > Praça da República. \nOrganização: Ida e Volta – Associação Cultural e Artística \n[/vc_column_text][/vc_column][/vc_row]
URL:https://saojoaobraga.pt/event/xxxiv-cortejo-internacional-de-gigantones-e-cabecudos/
LOCATION:Praça do Município\, Praça do Município\, Braga\, Braga\, 4700-435\, Portugal
CATEGORIES:Animação,Cortejos,Vários
ATTACH;FMTTYPE=image/jpeg:https://saojoaobraga.pt/wp-content/uploads/2025/05/cortejo-gigantones-1.jpg
END:VEVENT
BEGIN:VEVENT
DTSTART;TZID=UTC:20250622T163000
DTEND;TZID=UTC:20250622T163000
DTSTAMP:20260419T175352
CREATED:20250529T100029Z
LAST-MODIFIED:20250529T144838Z
UID:10071-1750609800-1750609800@saojoaobraga.pt
SUMMARY:Cortejo Etnográfico
DESCRIPTION:[vc_row][vc_column][vc_column_text] \nMomento marcante de celebração dos usos\, costumes e tradições das gentes do Minho\, num desfile vibrante\, no qual participam todos os grupos folclóricos do concelho. Acompanhados por carros alegóricos\, o património imaterial bracarense ganha vida\, neste cortejo que enaltece a identidade\, a memória coletiva e a riqueza da cultura popular do território. \nItinerário:\nArco da Porta Nova > Rua D. Diogo de Sousa > Largo do Paço > Rua do Souto > Largo Barão de S. Martinho > Praça Mestre Veiga > Igreja dos Congregados > Avenida Central > Praça da República \n[/vc_column_text][/vc_column][/vc_row]
URL:https://saojoaobraga.pt/event/cortejo-etnografico-2025/
LOCATION:Arco da Porta Nova\, Rua D. Diogo de Sousa\, 5\, Braga\, Braga\, 4700-424\, Portugal
CATEGORIES:Cortejos
ATTACH;FMTTYPE=image/jpeg:https://saojoaobraga.pt/wp-content/uploads/2025/05/cortejo-etnografico-2.jpg
END:VEVENT
BEGIN:VEVENT
DTSTART;TZID=UTC:20250622T210000
DTEND;TZID=UTC:20250622T210000
DTSTAMP:20260419T175352
CREATED:20250529T100029Z
LAST-MODIFIED:20250529T144851Z
UID:10077-1750626000-1750626000@saojoaobraga.pt
SUMMARY:Desfile dos grupos folclóricos participantes no Festival Folclórico das Festas de São João de Braga
DESCRIPTION:[vc_row][vc_column][vc_column_text]Junte-se a nós no Arco da Porta Nova\, às 21h00\, para testemunhar o cortejo dos grupos folclóricos participantes no Festival Folclórico das Festas de São João de Braga 2025. \nItinerário:\nArco da Porta Nova > Rua D. Diogo de Sousa > Largo do Paço > Rua do Souto > Largo Barão de S. Martinho > Praça Mestre Veiga > Avenida Central > Praça da República. \n[/vc_column_text][/vc_column][/vc_row]
URL:https://saojoaobraga.pt/event/desfile-dos-grupos-folcloricos-participantes-no-festival-folclorico-das-festas-de-sao-joao-de-braga-2025/
LOCATION:Arco da Porta Nova\, Rua D. Diogo de Sousa\, 5\, Braga\, Braga\, 4700-424\, Portugal
CATEGORIES:Cortejos,Cultura
ATTACH;FMTTYPE=image/jpeg:https://saojoaobraga.pt/wp-content/uploads/2025/05/desfile-grupos-folcloricos-1.jpg
END:VEVENT
BEGIN:VEVENT
DTSTART;TZID=UTC:20250623T090000
DTEND;TZID=UTC:20250623T090000
DTSTAMP:20260419T175352
CREATED:20250529T100028Z
LAST-MODIFIED:20250529T145437Z
UID:10090-1750669200-1750669200@saojoaobraga.pt
SUMMARY:Cortejo da Mordomia ou da Associação de Festas de São João de Braga
DESCRIPTION:[vc_row][vc_column][vc_column_text] \nO dia 23 de junho começa com o tradicional cortejo da “Mordomia”\, promovido pela Associação de Festas\, que reúne os diversos grupos de animação popular e culmina na Praça Municipal\, em frente aos Paços do Concelho\, perante a presença das mais altas entidades civis\, eclesiásticas e militares da cidade. Embora as festividades já decorram há alguns dias\, é neste momento que se assinala\, simbolicamente\, a abertura oficial das Festas da cidade\, reforçando o seu carácter institucional e municipal. \nItinerário:\nRua de S. João > Rua do Forno >Rua D. Afonso Henriques > Rua de S. Marcos > Largo Barão de S. Martinho > Rua do Souto > Rua da Misericórdia > Praça Municipal \n[/vc_column_text][/vc_column][/vc_row]
URL:https://saojoaobraga.pt/event/cortejo-da-mordomia-ou-da-associacao-de-festas-de-sao-joao-de-braga-2025/
LOCATION:Rua de São João do Souto
CATEGORIES:Cortejos
ATTACH;FMTTYPE=image/jpeg:https://saojoaobraga.pt/wp-content/uploads/2025/05/cortejo-mordomia-1.jpg
END:VEVENT
BEGIN:VEVENT
DTSTART;TZID=UTC:20250623T220000
DTEND;TZID=UTC:20250623T220000
DTSTAMP:20260419T175352
CREATED:20250529T100027Z
LAST-MODIFIED:20250611T154204Z
UID:10121-1750716000-1750716000@saojoaobraga.pt
SUMMARY:Cortejo das Rusgas
DESCRIPTION:[vc_row][vc_column][vc_column_text] \nO Cortejo das Rusgas é um dos momentos mais emblemáticos da grandiosa noitada de São João em Braga\, no qual se percorre a cidade desde o centro histórico até ao Parque da Ponte. Inspirado nas tradições do passado\, quando os romeiros deixavam promessas junto à capelinha e prendiam pagelas às fitas dos chapéus\, o cortejo mantém viva a essência festiva\, com a presença de várias rusgas\, grupos folclóricos e tocadores de bombos e concertinas de vários pontos do concelho\, aos quais se juntam bandas filarmónicas\, enchendo as ruas de música\, dança e tradição. \nItinerário:\nCampo das Hortas > Arco da Porta Nova > Rua D. Diogo de Sousa > Rua do Souto > Largo Barão de S. Martinho > Rua de S. Marcos > Largo Carlos Amarante > Rua do Raio > Avenida da Liberdade > Largo S. João da Ponte (capela). \nGrupos participantes:\nArcos de Romaria; Cabeçudos e Gigantones do São João de Braga; Amigos da Borga; Zés Pereiras S. Paio Antas; Banda Musical de Vila Verde; Rusga de São Vicente; Grupo Folclórico e Etnográfico de Palmeira; Grupo Folclórico Infantil e Juvenil do Carreiro; Grupo Folclórico da Universidade do Minho; Rancho Folclórico ACR Cabreiros; Associação Cultural e Festiva ‘Os Sinos da Sé’; Grupo de Concertinas de Merelim S. Pedro; Rancho Folclórico S. João Baptista de Nogueira; Rusga de Merelim S. Paio; Grupo Folclórico S. Miguel de Gualtar; Amigos das Concertinas da Loureira; Rancho Folclórico Sta. Maria de Adaúfe; Rancho Folclórico Típico de Sta. Maria de Sequeira; Amigos das Concertinas de Palmeira; Rusga Joaquim Janeiro; Grupo Foclórico Divino Salvador de Tebosa; Grupo Folclórico Danças e Cantares de Sto. Adrião; Grupo Folclórico de Lamaçães; Rusga de Merelim S. Pedro; Amigos das Concertinas de Aveleda; Banda Filarmónica de Cabreiros. \n[/vc_column_text][/vc_column][/vc_row]
URL:https://saojoaobraga.pt/event/cortejo-das-rusgas-2025/
LOCATION:Campo das Hortas
CATEGORIES:Cortejos
ATTACH;FMTTYPE=image/jpeg:https://saojoaobraga.pt/wp-content/uploads/2025/05/cortejo-rusgas-saojoao-braga-1.jpg
END:VEVENT
BEGIN:VEVENT
DTSTART;TZID=UTC:20250624T090000
DTEND;TZID=UTC:20250624T090000
DTSTAMP:20260419T175352
CREATED:20250529T100027Z
LAST-MODIFIED:20250529T151853Z
UID:10137-1750755600-1750755600@saojoaobraga.pt
SUMMARY:Cortejo Sanjoanino com os Carros das Ervas\, do Rei David e dos Pastores
DESCRIPTION:[vc_row][vc_column][vc_column_text] \nA cidade enche-se de alegria\, animação e orgulho\, num momento de celebração das suas raízes e tradições. \nItinerário:\nLargo S. João do Souto > Rua de S. Marcos > Turismo > Rua dos Chãos > Largo dos Penedos > Rua do Carmo > Praça Conde de Agrolongo > Arco da Porta Nova > Praça Municipal > Rua D. Frei Caetano Brandão > Rua D. Afonso Henriques > Largo Carlos Amarante > Avenida da Liberdade (Granjinhos) > Largo de São João da Ponte. \n[/vc_column_text][/vc_column][/vc_row]
URL:https://saojoaobraga.pt/event/cortejo-sanjoanino-carro-das-ervas-carro-do-rei-david-e-carro-dos-pastores-2025/
LOCATION:Largo São João do Souto\, Largo de São João do Souto\, Braga\, Braga\, 4700-326\, Portugal
CATEGORIES:Cortejos
ATTACH;FMTTYPE=image/jpeg:https://saojoaobraga.pt/wp-content/uploads/2025/05/cortejo-sanjoanino-rei-david-2.jpg
END:VEVENT
BEGIN:VEVENT
DTSTART;TZID=UTC:20250624T170000
DTEND;TZID=UTC:20250624T170000
DTSTAMP:20260419T175352
CREATED:20250529T100026Z
LAST-MODIFIED:20250528T145355Z
UID:10150-1750784400-1750784400@saojoaobraga.pt
SUMMARY:Transladação do Andor de São João em direção à Sé
DESCRIPTION:[vc_row][vc_column][vc_column_text] \nCaminhando para o encerramento das Festas de São João de 2024\, teremos a transladação do andor de São João em direção à Sé. \n[/vc_column_text][/vc_column][/vc_row]
URL:https://saojoaobraga.pt/event/transladacao-do-andor-de-sao-joao-em-direcao-a-se-2025/
LOCATION:Largo São João do Souto\, Largo de São João do Souto\, Braga\, Braga\, 4700-326\, Portugal
CATEGORIES:Cortejos,Devoção
ATTACH;FMTTYPE=image/jpeg:https://saojoaobraga.pt/wp-content/uploads/2025/05/transladacao-andor-saojoao-4.jpg
END:VEVENT
BEGIN:VEVENT
DTSTART;TZID=UTC:20250624T180000
DTEND;TZID=UTC:20250624T180000
DTSTAMP:20260419T175352
CREATED:20250529T100026Z
LAST-MODIFIED:20250529T152708Z
UID:10154-1750788000-1750788000@saojoaobraga.pt
SUMMARY:Soleníssima Procissão de São João Baptista
DESCRIPTION:[vc_row][vc_column][vc_column_text] \nDez andores e centenas de figurantes\, com destaque para os Santos do mês de junho (Santo António\, São Luís Gonzaga\, São Pedro\, Sagrado Coração de Jesus\, São Paulo e São Paio) e dos Padroeiros da cidade de Braga: São Geraldo\, Nossa Senhora da Torre\, Nossa Senhora do Sameiro e São João. \nItinerário:\nSé Primaz > Rua D. Paio Mendes > Rua S. Miguel-o-Anjo > Rua D. Diogo de Sousa > Largo do Paço > Rua do Souto > Largo do Barão de S. Martinho > Rua de S. Marcos > Rua D. Afonso Henriques > Rua D. Frei Caetano Brandão > Rua D. Paio Mendes > Sé Primaz \n[/vc_column_text][/vc_column][/vc_row]
URL:https://saojoaobraga.pt/event/solenissima-procissao-de-sao-joao-baptista-2025/
LOCATION:Sé Primaz\, Sé Catedral de Braga\, Braga\, Braga\, 470-424\, Portugal
CATEGORIES:Cortejos,Devoção
ATTACH;FMTTYPE=image/jpeg:https://saojoaobraga.pt/wp-content/uploads/2025/05/procissao-saojoao-1.jpg
END:VEVENT
END:VCALENDAR